BEGIN:VCALENDAR
VERSION:2.0
PRODID:icalendar-ruby
CALSCALE:GREGORIAN
METHOD:PUBLISH
BEGIN:VEVENT
DTSTAMP:20260422T003649Z
UID:39-2627246@allsaintswaterloo.ca
DTSTART:20260919T140000Z
DTEND:20260919T160000Z
CLASS:PUBLIC
CREATED:20260421T200330
DESCRIPTION:Yarn\, needles and help will be provided as needed.
LAST-MODIFIED:20260421T200330
LOCATION:
SUMMARY:Wool Gatherers
URL;VALUE=URI:https://www.allsaintswaterloo.ca/events/wool-gatherers--39/20
 26-09-19
ATTACH;FILENAME=Wool Gatherers.png;FMTTYPE=image/png:https://dq5pwpg1q8ru0.
 cloudfront.net/2021/11/03/07/16/27/1defd715-d403-4117-8bce-b87ae4c6941d/Wo
 ol%20Gatherers.png
END:VEVENT
END:VCALENDAR
